BEGIN:VCALENDAR
VERSION:2.0
PRODID:-//The Dragonfly Cincinnati - ECPv6.14.1//NONSGML v1.0//EN
CALSCALE:GREGORIAN
METHOD:PUBLISH
X-ORIGINAL-URL:https://cincinnati.dragonfly.org
X-WR-CALDESC:Events for The Dragonfly Cincinnati
REFRESH-INTERVAL;VALUE=DURATION:PT1H
X-Robots-Tag:noindex
X-PUBLISHED-TTL:PT1H
BEGIN:VTIMEZONE
TZID:UTC
BEGIN:STANDARD
TZOFFSETFROM:+0000
TZOFFSETTO:+0000
TZNAME:UTC
DTSTART:20240101T000000
END:STANDARD
END:VTIMEZONE
BEGIN:VEVENT
DTSTART;TZID=UTC:20260418T180000
DTEND;TZID=UTC:20260418T230000
DTSTAMP:20260423T145438
CREATED:20250406T114748Z
LAST-MODIFIED:20260107T182456Z
UID:2372-1776535200-1776553200@cincinnati.dragonfly.org
SUMMARY:DRAGONFLY GALA
DESCRIPTION:PRESENTED BY:\n\n \n\n\n\n\n\n\n\n\n\n\n\n\nWe are happy to invite you to the 2026 Dragonfly Gala\nJoin us at Music Hall on April 18th\, 2026 for the 15th annual Dragonfly Gala! Enjoy a delicious plated dinner\, musical performance\, a silent auction\, and grand raffle. Become a member of our welcoming and wonderful Dragonfly community. \nThank you to everyone who joins our Dragonfly community by attending\, donating\, and helping to make this special night a success — your support means the world to the families we serve! \n\n\n\n\n\n\n\n\n\n\nWhere & When\n\nApril 18\, 2026\n\nCincinnati Music Hall\n1241 Elm Street\, Cincinnati\, OH 45202 \nDress\nBlack Tie Optional \n\n\n\n\nSee Sponsorships\, Tickets\, Auction Items\, and More\nVisit the Event Site
URL:https://cincinnati.dragonfly.org/event/dragonfly-gala/
LOCATION:Cincinnati Music Hall 1241 Elm Street\, Cincinnati\, OH 45202\, Cincinnati Music Hall 1241 Elm Street\,\, Cincinnati\, OH\, 45202\, United States
ATTACH;FMTTYPE=image/jpeg:https://cincinnati.dragonfly.org/wp-content/uploads/2025/04/Marketing-Banner-1-scaled-e1762463005105.jpg
END:VEVENT
BEGIN:VEVENT
DTSTART;VALUE=DATE:20250922
DTEND;VALUE=DATE:20250923
DTSTAMP:20260423T145438
CREATED:20250330T040605Z
LAST-MODIFIED:20250923T205258Z
UID:2096-1758499200-1758585599@cincinnati.dragonfly.org
SUMMARY:15TH ANNUAL DRAGONFLY GOLF CLASSIC
DESCRIPTION:This year\, 132 players joined us for the 2025 Golf Classic. Thanks to their support and the generous donations of our sponsors\, we raised over $80\,000 to support patients\, siblings\, and caregivers on their pediatric cancer journeys. Despite the rain\, it was a wonderful day filled with strength\, courage\, and joy! \nCongratulations to our winners\, Randy Wolf\, Jeff Parnell\, Mark Goins\, and Charles Page\, from our Presenting Sponsor\, Titan Roofing! \n\n\n\n\n\n\n\n\n\nWhere & When\n\nSeptember 22\, 2025\n\nWetherington Golf & Country Club \nWest Chester Township\, OH 45069 \n\n\n\n\nVisit this site for more details\nMore Information\n\n\n\n\n\n\n\n\n\n\n\n\n\nMake a Donation\nMake a Donation
URL:https://cincinnati.dragonfly.org/event/15th-annual-dragonfly-golf-classic/
LOCATION:Wetherington Golf & Country Club\, West Chester Township\, OH 45069\, Ohio\, OH\, 45069\, United States
ATTACH;FMTTYPE=image/jpeg:https://cincinnati.dragonfly.org/wp-content/uploads/2025/03/Clopay-Golf-Tournament-scaled-1.jpg
END:VEVENT
BEGIN:VEVENT
DTSTART;VALUE=DATE:20250621
DTEND;VALUE=DATE:20250622
DTSTAMP:20260423T145438
CREATED:20250408T115003Z
LAST-MODIFIED:20250908T135830Z
UID:2391-1750464000-1750550399@cincinnati.dragonfly.org
SUMMARY:RIDE FOR DRAGONFLY
DESCRIPTION:PRESENTED BY:\n\n  \n\n\n\n\n\n\n\n\n\n\n\n\n2025 Ride For Dragonfly\nThe 8th annual Ride for Dragonfly took place on Saturday\, June 21st at 7 Hills Harley-Davidson. \nThe Ride featured a pre-party with music and merch\, followed by an after-party with live music\, raffles\, split-the-pot\, vendors\, and a booth that sold commemorative Ride for Dragonfly t-shirts and other merchandise. \nThank you to everyone who joined us\, rode with us\, and supported Dragonfly families—we couldn’t do it without you! \nThe Ride was the brainchild of friends of “SuperBubz” and his family. Superbubz was a young cancer patient and a Dragonfly who passed away in 2017.
URL:https://cincinnati.dragonfly.org/event/ride-for-dragonfly/
LOCATION:Seven Hills Harley 699 Cincinnati-Batavia Pike\, Cincinnati\, OH 45245\, Seven Hills Harley 699 Cincinnati-Batavia Pike\, Cincinnati\, OH 45245\, Cincinnati\, OH\, 45245\, United States
ATTACH;FMTTYPE=image/jpeg:https://cincinnati.dragonfly.org/wp-content/uploads/2025/04/Ride-For-Dragonfly-Header.jpg
END:VEVENT
BEGIN:VEVENT
DTSTART;TZID=UTC:20241102T080000
DTEND;TZID=UTC:20241102T210000
DTSTAMP:20260423T145438
CREATED:20250408T120837Z
LAST-MODIFIED:20251106T212714Z
UID:2398-1730534400-1730581200@cincinnati.dragonfly.org
SUMMARY:Dinks & Drives for Dragonfly - Pickleball Tournament
DESCRIPTION:PRESENTED BY:\n\n  \n\n\n\n\n\n\n\n\n\n\n\n\nDinks & Drives for Dragonfly – Pickleball Tournament\nWe had a fun-filled day of pickleball action and excitement\, all for a great cause. \nThe tournament was held inside the fantastic facilities of Life Time\, ensuring a comfortable and enjoyable playing experience for all participants. Players showcased their skills and enjoyed friendly competition with fellow pickleball enthusiasts\, all while supporting the incredible work of the Dragonfly Foundation. \nAll proceeds from this event directly benefited the Dragonfly Foundation\, a worthy cause dedicated to supporting children affected by pediatric cancer. By participating in the tournament and enjoying the activities\, everyone made a meaningful contribution to the lives of these courageous individuals and their families. \nThank you to everyone who played\, volunteered\, and supported Dinks and Drives for Dragonfly — your generosity and spirit helped make a real difference! \n\n\n\n\n\n\n\n\n\n\nWhere & When\n\n2026 Info Coming Soon!\n\n\n\n\n\n\nInterested in sponsoring?\nPlease contact events at events@dragonfly.org \nEmail Us
URL:https://cincinnati.dragonfly.org/event/dinks-drives-for-dragonfly-2nd-pickleball-tournament/
LOCATION:Lifetime Fitness  8310 Wilkens Blvd\, Lifetime Fitness 8310 Wilkens Blvd\, Wilkens Blvd\, 8310\, United States
ATTACH;FMTTYPE=image/jpeg:https://cincinnati.dragonfly.org/wp-content/uploads/2025/04/DD-2024-logo.jpg
END:VEVENT
END:VCALENDAR