BEGIN:VCALENDAR
VERSION:2.0
PRODID:-//The Dragonfly Cincinnati - ECPv6.14.1//NONSGML v1.0//EN
CALSCALE:GREGORIAN
METHOD:PUBLISH
X-ORIGINAL-URL:https://cincinnati.dragonfly.org
X-WR-CALDESC:Events for The Dragonfly Cincinnati
REFRESH-INTERVAL;VALUE=DURATION:PT1H
X-Robots-Tag:noindex
X-PUBLISHED-TTL:PT1H
BEGIN:VTIMEZONE
TZID:UTC
BEGIN:STANDARD
TZOFFSETFROM:+0000
TZOFFSETTO:+0000
TZNAME:UTC
DTSTART:20250101T000000
END:STANDARD
END:VTIMEZONE
BEGIN:VEVENT
DTSTART;VALUE=DATE:20250621
DTEND;VALUE=DATE:20250622
DTSTAMP:20260424T022253
CREATED:20250408T115003Z
LAST-MODIFIED:20250908T135830Z
UID:2391-1750464000-1750550399@cincinnati.dragonfly.org
SUMMARY:RIDE FOR DRAGONFLY
DESCRIPTION:PRESENTED BY:\n\n  \n\n\n\n\n\n\n\n\n\n\n\n\n2025 Ride For Dragonfly\nThe 8th annual Ride for Dragonfly took place on Saturday\, June 21st at 7 Hills Harley-Davidson. \nThe Ride featured a pre-party with music and merch\, followed by an after-party with live music\, raffles\, split-the-pot\, vendors\, and a booth that sold commemorative Ride for Dragonfly t-shirts and other merchandise. \nThank you to everyone who joined us\, rode with us\, and supported Dragonfly families—we couldn’t do it without you! \nThe Ride was the brainchild of friends of “SuperBubz” and his family. Superbubz was a young cancer patient and a Dragonfly who passed away in 2017.
URL:https://cincinnati.dragonfly.org/event/ride-for-dragonfly/
LOCATION:Seven Hills Harley 699 Cincinnati-Batavia Pike\, Cincinnati\, OH 45245\, Seven Hills Harley 699 Cincinnati-Batavia Pike\, Cincinnati\, OH 45245\, Cincinnati\, OH\, 45245\, United States
ATTACH;FMTTYPE=image/jpeg:https://cincinnati.dragonfly.org/wp-content/uploads/2025/04/Ride-For-Dragonfly-Header.jpg
END:VEVENT
END:VCALENDAR